BEGIN:VCALENDAR
VERSION:2.0
PRODID:-//International Food Festival - ECPv6.15.20//NONSGML v1.0//EN
CALSCALE:GREGORIAN
METHOD:PUBLISH
X-WR-CALNAME:International Food Festival
X-ORIGINAL-URL:https://internationalfoodfestival.pl
X-WR-CALDESC:Events for International Food Festival
REFRESH-INTERVAL;VALUE=DURATION:PT1H
X-Robots-Tag:noindex
X-PUBLISHED-TTL:PT1H
BEGIN:VTIMEZONE
TZID:UTC
BEGIN:STANDARD
TZOFFSETFROM:+0000
TZOFFSETTO:+0000
TZNAME:UTC
DTSTART:20250101T000000
END:STANDARD
END:VTIMEZONE
BEGIN:VEVENT
DTSTART;TZID=UTC:20260604T100000
DTEND;TZID=UTC:20260607T220000
DTSTAMP:20260420T071744
CREATED:20260409T163257Z
LAST-MODIFIED:20260409T163541Z
UID:56286-1780567200-1780869600@internationalfoodfestival.pl
SUMMARY:International Food Festival - Łódź - Lato
DESCRIPTION: INT’L FOOD FEST – ŁÓDŹ\nHala Odlewnia | Piotrkowska 217\n\n 4–7 Czerwiec 2026\n WSTĘP WOLNY\nWkrótce będzie więcej szczegółów!\n\nMiędzynarodowy Festiwal Smaków wraca – tym razem widzimy się w sercu Łodzi\, w wyjątkowej przestrzeni Hali Odlewnia przy Piotrkowskiej 217!\nPrzez trzy dni industrialna hala zamieni się w tętniące życiem centrum smaków świata\, street foodu i dobrej muzyki.\n\n Co na Was czeka?\n\nKulinarna podróż dookoła świata – bez wyjeżdżania z Łodzi!\nPodczas festiwalu znajdziecie różnorodne strefy smaków:\n\n Kuchnia azjatycka\n Pierożki i ręcznie robione specjały\n Smaki Bliskiego Wschodu\n Street food fusion\n Dania pikantne i egzotyczne\n Live cooking – świeżo przygotowywane potrawy\n\nTo idealny plan na weekend dla rodzin\, studentów\, grup znajomych i wszystkich\, którzy kochają dobre jedzenie i festiwalową atmosferę.\n\n DJ przez cały dzień\n\nOd otwarcia do zamknięcia o klimat zadba DJ.\nEnergia\, muzyka i miejski vibe przez cały weekend.\n\nJedzenie + muzyka + ludzie = idealne połączenie.\n\n\n\n\n\n\nWkrótce będzie więcej szczegółów!
URL:https://internationalfoodfestival.pl/event/international-food-festival-lodz-lato/
LOCATION:Piotrkowska 217\, Piotrkowska 217\, Łódź\, 90-451\, Poland
CATEGORIES:Indoor Festival
ATTACH;FMTTYPE=image/jpeg:https://internationalfoodfestival.pl/wp-content/uploads/2026/03/hyjk-Large.jpg
ORGANIZER;CN="Team Knocknock":MAILTO:contact@teamknocknock.com
END:VEVENT
END:VCALENDAR