BEGIN:VCALENDAR
VERSION:2.0
PRODID:-//International Food Festival - ECPv6.15.20//NONSGML v1.0//EN
CALSCALE:GREGORIAN
METHOD:PUBLISH
X-WR-CALNAME:International Food Festival
X-ORIGINAL-URL:https://internationalfoodfestival.pl
X-WR-CALDESC:Events for International Food Festival
REFRESH-INTERVAL;VALUE=DURATION:PT1H
X-Robots-Tag:noindex
X-PUBLISHED-TTL:PT1H
BEGIN:VTIMEZONE
TZID:UTC
BEGIN:STANDARD
TZOFFSETFROM:+0000
TZOFFSETTO:+0000
TZNAME:UTC
DTSTART:20250101T000000
END:STANDARD
END:VTIMEZONE
BEGIN:VEVENT
DTSTART;TZID=UTC:20260327T100000
DTEND;TZID=UTC:20260329T220000
DTSTAMP:20260420T001809
CREATED:20260327T150029Z
LAST-MODIFIED:20260409T162928Z
UID:54886-1774605600-1774821600@internationalfoodfestival.pl
SUMMARY:International Food Festival - Łódź
DESCRIPTION: INT’L FOOD FEST – ŁÓDŹ\nHala Odlewnia | Piotrkowska 217\n\n 27–29 marca 2026\n WSTĘP WOLNY\n\nMiędzynarodowy Festiwal Smaków wraca – tym razem widzimy się w sercu Łódź\, w wyjątkowej przestrzeni Hala Odlewnia przy Piotrkowskiej 217!\nPrzez trzy dni industrialna hala zamieni się w tętniące życiem centrum smaków świata\, street foodu i dobrej muzyki.\n\n Co na Was czeka?\n\nKulinarna podróż dookoła świata – bez wyjeżdżania z Łodzi!\nPodczas festiwalu znajdziecie różnorodne strefy smaków:\n\n Kuchnia azjatycka\n Pierożki i ręcznie robione specjały\n Smaki Bliskiego Wschodu\n Street food fusion\n Dania pikantne i egzotyczne\n Live cooking – świeżo przygotowywane potrawy\n\nTo idealny plan na weekend dla rodzin\, studentów\, grup znajomych i wszystkich\, którzy kochają dobre jedzenie i festiwalową atmosferę.\n\n DJ przez cały dzień\n\nOd otwarcia do zamknięcia o klimat zadba DJ.\nEnergia\, muzyka i miejski vibe przez cały weekend.\n\nJedzenie + muzyka + ludzie = idealne połączenie.\n\n Harmonogram wydarzenia Piątek – 27 marca 2026\n15:00 – 21:00\n Sobota – 28 marca 2026\n12:00 – 21:00\n Niedziela – 29 marca 2026\n12:00 – 19:00\n Wstęp\nWSTĘP WOLNY\nNie potrzebujesz biletu – wystarczy przyjść i dać się ponieść smakom świata.\n Lokalizacja\nHala OdlewniaPiotrkowska 217Łódź\n\nWyjątkowa industrialna przestrzeń w sercu miasta – idealna na festiwal street food
URL:https://internationalfoodfestival.pl/event/international-food-festival-lodz/
LOCATION:Piotrkowska 217\, Piotrkowska 217\, Łódź\, 90-451\, Poland
CATEGORIES:Indoor Festival
ATTACH;FMTTYPE=image/jpeg:https://internationalfoodfestival.pl/wp-content/uploads/2026/03/hyjk-Large.jpg
ORGANIZER;CN="Team Knocknock":MAILTO:contact@teamknocknock.com
END:VEVENT
END:VCALENDAR